BEGIN:VCALENDAR
VERSION:2.0
PRODID:-//SelZeCeux - ECPv6.15.20//NONSGML v1.0//EN
CALSCALE:GREGORIAN
METHOD:PUBLISH
X-ORIGINAL-URL:https://selzeceux.fr
X-WR-CALDESC:Évènements pour SelZeCeux
REFRESH-INTERVAL;VALUE=DURATION:PT1H
X-Robots-Tag:noindex
X-PUBLISHED-TTL:PT1H
BEGIN:VTIMEZONE
TZID:Europe/Paris
BEGIN:DAYLIGHT
TZOFFSETFROM:+0100
TZOFFSETTO:+0200
TZNAME:CEST
DTSTART:20150329T010000
END:DAYLIGHT
BEGIN:STANDARD
TZOFFSETFROM:+0200
TZOFFSETTO:+0100
TZNAME:CET
DTSTART:20151025T010000
END:STANDARD
BEGIN:DAYLIGHT
TZOFFSETFROM:+0100
TZOFFSETTO:+0200
TZNAME:CEST
DTSTART:20160327T010000
END:DAYLIGHT
BEGIN:STANDARD
TZOFFSETFROM:+0200
TZOFFSETTO:+0100
TZNAME:CET
DTSTART:20161030T010000
END:STANDARD
BEGIN:DAYLIGHT
TZOFFSETFROM:+0100
TZOFFSETTO:+0200
TZNAME:CEST
DTSTART:20170326T010000
END:DAYLIGHT
BEGIN:STANDARD
TZOFFSETFROM:+0200
TZOFFSETTO:+0100
TZNAME:CET
DTSTART:20171029T010000
END:STANDARD
END:VTIMEZONE
BEGIN:VTIMEZONE
TZID:Europe/Paris
BEGIN:DAYLIGHT
TZOFFSETFROM:+0100
TZOFFSETTO:+0200
TZNAME:CEST
DTSTART:20140330T010000
END:DAYLIGHT
BEGIN:STANDARD
TZOFFSETFROM:+0200
TZOFFSETTO:+0100
TZNAME:CET
DTSTART:20141026T010000
END:STANDARD
BEGIN:DAYLIGHT
TZOFFSETFROM:+0100
TZOFFSETTO:+0200
TZNAME:CEST
DTSTART:20150329T010000
END:DAYLIGHT
BEGIN:STANDARD
TZOFFSETFROM:+0200
TZOFFSETTO:+0100
TZNAME:CET
DTSTART:20151025T010000
END:STANDARD
BEGIN:DAYLIGHT
TZOFFSETFROM:+0100
TZOFFSETTO:+0200
TZNAME:CEST
DTSTART:20160327T010000
END:DAYLIGHT
BEGIN:STANDARD
TZOFFSETFROM:+0200
TZOFFSETTO:+0100
TZNAME:CET
DTSTART:20161030T010000
END:STANDARD
END:VTIMEZONE
BEGIN:VEVENT
DTSTART;TZID=Europe/Paris:20160619T100000
DTEND;TZID=Europe/Paris:20160619T170000
DTSTAMP:20260423T153658
CREATED:20160414T072946Z
LAST-MODIFIED:20160414T072946Z
UID:289-1466330400-1466355600@selzeceux.fr
SUMMARY:Vide-maison
DESCRIPTION:Le 19 juin\, l’association SelZéCeux propose une journée « Vide-maison » de 10 h à 17 h ! \nLe principe : \nSans quitter votre domicile\, vous exposez les objets\, les livres ou même les meubles dont vous souhaitez vous débarrasser dans votre cour\, votre jardin\, votre garage que vous ouvrez au public … Vous convenez d’un prix avec la personne intéressée. \nLe paiement sera possible en grains (pour les sellistes !) ou en euros. \nPour plus d’information: cliquez! \n 
URL:https://selzeceux.fr/event/vide-maison/
LOCATION:Villeconin\, Villeconin
END:VEVENT
BEGIN:VEVENT
DTSTART;TZID=Europe/Paris:20160522T140000
DTEND;TZID=Europe/Paris:20160522T170000
DTSTAMP:20260423T153658
CREATED:20160411T175446Z
LAST-MODIFIED:20160411T175446Z
UID:288-1463925600-1463936400@selzeceux.fr
SUMMARY:Promenade "découverte des plantes sauvages et comestibles"
DESCRIPTION:L’association « SelZéCeux » propose une promenade botanique à la « découverte des plantes sauvages et comestibles ». \nVous apprendrez à identifier une plante sauvage grâce à ses différentes caractéristiques (port de la plante\, forme des feuilles\, couleur de la fleur…). \nDe nombreuses plantes sauvages sont comestibles et/ou possèdent des vertus médicinales : nous découvrirons de quelle façon elles peuvent agrémenter nos plats ou servir à la confection de remèdes. \nOuvert à tous. \nRendez-vous à 14 h\, place de l’église.
URL:https://selzeceux.fr/event/promenade-decouverte-des-plantes-sauvages-et-comestibles/
LOCATION:Place de l’église de Villeconin\, Gr Grande rue\, Villeconin\, Essonne\, France
END:VEVENT
BEGIN:VEVENT
DTSTART;TZID=Europe/Paris:20160410T100000
DTEND;TZID=Europe/Paris:20160410T180000
DTSTAMP:20260423T153658
CREATED:20160113T081656Z
LAST-MODIFIED:20160113T081656Z
UID:237-1460282400-1460311200@selzeceux.fr
SUMMARY:Marché aux grains
DESCRIPTION:Echangez plutôt que gâcher \n10 h : installation des stands et début des échanges \nVenez flâner près des étalages et offrez une deuxième vie à vos objets. \n\nPartager / échanger / troquer tes vêtements\, livres\, fer à friser\, bijoux…\nTroquer plutôt que acheter !\nUn moment convivial et festif !\n\n12 h : repas partagé tiré du sac\, chacun apporte un plat\, et uneboisson \nAprès-midi : suite des échanges et jeux de plein air ou société pour ceux qui le souhaitent. \nUn espace de musique libre (apportes ton instrument pour un bœuf musical)
URL:https://selzeceux.fr/event/marche-aux-grains/
LOCATION:Place de l’église de Villeconin\, Gr Grande rue\, Villeconin\, Essonne\, France
CATEGORIES:Ateliers
END:VEVENT
BEGIN:VEVENT
DTSTART;TZID=Europe/Paris:20160306T143000
DTEND;TZID=Europe/Paris:20160306T180000
DTSTAMP:20260423T153658
CREATED:20160227T141913Z
LAST-MODIFIED:20160229T181622Z
UID:262-1457274600-1457287200@selzeceux.fr
SUMMARY:ATELIER CANNAGE DE CHAISES
DESCRIPTION:Votre SEL propose un atelier cannage de chaise le: \nInscription au via Florence\, participation limitée à 6 personnes. \nLes supports doivent être préparés si besoin \, poncés et recollés\, vernis ou peint. \nCet Atelier sera animé par Bernard. \nUne participation de 10 euros est demandée pour les fournitures. l’intervention de Bernard sera réglé en grains. \n 
URL:https://selzeceux.fr/event/atelier-cannage-de-chaises/
LOCATION:Chez Florence\, Villeconin\, 91580
CATEGORIES:Ateliers
END:VEVENT
BEGIN:VEVENT
DTSTART;TZID=Europe/Paris:20160205T193000
DTEND;TZID=Europe/Paris:20160205T235500
DTSTAMP:20260423T153658
CREATED:20160113T081406Z
LAST-MODIFIED:20160113T081406Z
UID:236-1454700600-1454716500@selzeceux.fr
SUMMARY:Assemblée Générale 2016
DESCRIPTION:Cette réunion sera suivi d’un apéritif dînatoire et de la projection\ndu film « En quête de sens ». \nMerci de confirmer votre participation pour l’organisation.
URL:https://selzeceux.fr/event/assemblee-generale-2016/
LOCATION:Salle de la Mairie de Villeconin\, Gr Grande rue\, Villeconin\, 91580\, France
CATEGORIES:SelZéCeux
END:VEVENT
BEGIN:VEVENT
DTSTART;VALUE=DATE:20150703
DTEND;VALUE=DATE:20150704
DTSTAMP:20260423T153658
CREATED:20150227T164913Z
LAST-MODIFIED:20150227T164913Z
UID:158-1435881600-1435967999@selzeceux.fr
SUMMARY:Tisanes et transformation des plantes
DESCRIPTION:
URL:https://selzeceux.fr/event/tisanes-et-transformation-des-plantes/
LOCATION:Villeconin\, Villeconin
CATEGORIES:Ateliers
END:VEVENT
BEGIN:VEVENT
DTSTART;VALUE=DATE:20150603
DTEND;VALUE=DATE:20150604
DTSTAMP:20260423T153658
CREATED:20150227T164106Z
LAST-MODIFIED:20150227T164106Z
UID:153-1433289600-1433375999@selzeceux.fr
SUMMARY:Projection du film "En quête de sens"
DESCRIPTION:
URL:https://selzeceux.fr/event/projection-du-film-en-quete-de-sens/
LOCATION:Salle de la Mairie de Villeconin\, Gr Grande rue\, Villeconin\, 91580\, France
CATEGORIES:SelZéCeux
END:VEVENT
BEGIN:VEVENT
DTSTART;VALUE=DATE:20150530
DTEND;VALUE=DATE:20150531
DTSTAMP:20260423T153658
CREATED:20150227T164817Z
LAST-MODIFIED:20150227T164817Z
UID:157-1432944000-1433030399@selzeceux.fr
SUMMARY:Decouverte plantes comestibles
DESCRIPTION:A la découverte des plantes sauvage et comestibles dans l’alentours de Villeconin.
URL:https://selzeceux.fr/event/decouverte-plantes-comestibles/
LOCATION:Villeconin\, Villeconin
CATEGORIES:Ateliers
END:VEVENT
BEGIN:VEVENT
DTSTART;VALUE=DATE:20150501
DTEND;VALUE=DATE:20150502
DTSTAMP:20260423T153658
CREATED:20150227T164449Z
LAST-MODIFIED:20150227T164449Z
UID:155-1430438400-1430524799@selzeceux.fr
SUMMARY:Bourse Local Echange
DESCRIPTION:Bourse local d’échange place de l’église\, troc aux plantes et la vente de muguet en partenariat avec les Jardins de la Renarde.
URL:https://selzeceux.fr/event/bourse-local-echange/
LOCATION:Place de l’église de Villeconin\, Gr Grande rue\, Villeconin\, Essonne\, France
CATEGORIES:SelZéCeux
END:VEVENT
BEGIN:VEVENT
DTSTART;TZID=Europe/Paris:20150411T183000
DTEND;TZID=Europe/Paris:20150411T230000
DTSTAMP:20260423T153658
CREATED:20150227T164004Z
LAST-MODIFIED:20150227T164004Z
UID:152-1428777000-1428793200@selzeceux.fr
SUMMARY:CAFE SEL - Soupe de mots
DESCRIPTION:Voici la page de l’événement.
URL:https://selzeceux.fr/event/cafe-sel/
LOCATION:Salle de la Mairie de Villeconin\, Gr Grande rue\, Villeconin\, 91580\, France
CATEGORIES:SelZéCeux
END:VEVENT
BEGIN:VEVENT
DTSTART;VALUE=DATE:20150404
DTEND;VALUE=DATE:20150405
DTSTAMP:20260423T153658
CREATED:20150227T165938Z
LAST-MODIFIED:20150227T165938Z
UID:161-1428105600-1428191999@selzeceux.fr
SUMMARY:Décoration de Pâques au naturel
DESCRIPTION:
URL:https://selzeceux.fr/event/decoration-de-pacques-au-naturel/
LOCATION:Chez Florence\, Villeconin\, 91580
CATEGORIES:Ateliers
END:VEVENT
END:VCALENDAR